BEGIN:VCALENDAR
VERSION:2.0
PRODID:-//cocoabeachfootball.com - ECPv6.15.20//NONSGML v1.0//EN
CALSCALE:GREGORIAN
METHOD:PUBLISH
X-ORIGINAL-URL:https://cocoabeachfootball.com
X-WR-CALDESC:Events for cocoabeachfootball.com
REFRESH-INTERVAL;VALUE=DURATION:PT1H
X-Robots-Tag:noindex
X-PUBLISHED-TTL:PT1H
BEGIN:VTIMEZONE
TZID:America/New_York
BEGIN:DAYLIGHT
TZOFFSETFROM:-0500
TZOFFSETTO:-0400
TZNAME:EDT
DTSTART:20220313T070000
END:DAYLIGHT
BEGIN:STANDARD
TZOFFSETFROM:-0400
TZOFFSETTO:-0500
TZNAME:EST
DTSTART:20221106T060000
END:STANDARD
BEGIN:DAYLIGHT
TZOFFSETFROM:-0500
TZOFFSETTO:-0400
TZNAME:EDT
DTSTART:20230312T070000
END:DAYLIGHT
BEGIN:STANDARD
TZOFFSETFROM:-0400
TZOFFSETTO:-0500
TZNAME:EST
DTSTART:20231105T060000
END:STANDARD
BEGIN:DAYLIGHT
TZOFFSETFROM:-0500
TZOFFSETTO:-0400
TZNAME:EDT
DTSTART:20240310T070000
END:DAYLIGHT
BEGIN:STANDARD
TZOFFSETFROM:-0400
TZOFFSETTO:-0500
TZNAME:EST
DTSTART:20241103T060000
END:STANDARD
END:VTIMEZONE
BEGIN:VEVENT
DTSTART;VALUE=DATE:20230518
DTEND;VALUE=DATE:20230519
DTSTAMP:20260422T064658
CREATED:20230213T185217Z
LAST-MODIFIED:20230213T185218Z
UID:2452-1684368000-1684454399@cocoabeachfootball.com
SUMMARY:Spring HS Game vs Father Lopez
DESCRIPTION:More Information Coming Soon.
URL:https://cocoabeachfootball.com/event/spring-hs-game-vs-father-lopez/
CATEGORIES:Varsity Football Game
ATTACH;FMTTYPE=image/jpeg:https://cocoabeachfootball.com/wp-content/uploads/2017/04/CBHS-Football-Logo.jpg
END:VEVENT
BEGIN:VEVENT
DTSTART;VALUE=DATE:20230513
DTEND;VALUE=DATE:20230514
DTSTAMP:20260422T064658
CREATED:20230213T184940Z
LAST-MODIFIED:20230213T184940Z
UID:2449-1683936000-1684022399@cocoabeachfootball.com
SUMMARY:2023 Golf Tournament
DESCRIPTION:More Information Coming Soon.
URL:https://cocoabeachfootball.com/event/2023-golf-tournament/
CATEGORIES:Fundraisers
ATTACH;FMTTYPE=image/jpeg:https://cocoabeachfootball.com/wp-content/uploads/2017/04/CBHS-Football-Logo.jpg
END:VEVENT
BEGIN:VEVENT
DTSTART;VALUE=DATE:20230506
DTEND;VALUE=DATE:20230507
DTSTAMP:20260422T064658
CREATED:20230213T184826Z
LAST-MODIFIED:20230213T184826Z
UID:2447-1683331200-1683417599@cocoabeachfootball.com
SUMMARY:Car Wash
DESCRIPTION:More Information Coming Soon.
URL:https://cocoabeachfootball.com/event/car-wash/
CATEGORIES:Fundraisers
ATTACH;FMTTYPE=image/jpeg:https://cocoabeachfootball.com/wp-content/uploads/2017/04/CBHS-Football-Logo.jpg
END:VEVENT
BEGIN:VEVENT
DTSTART;VALUE=DATE:20230501
DTEND;VALUE=DATE:20230502
DTSTAMP:20260422T064658
CREATED:20230213T184729Z
LAST-MODIFIED:20230213T184729Z
UID:2445-1682899200-1682985599@cocoabeachfootball.com
SUMMARY:Spring Tackle Football Practice starts
DESCRIPTION:More Information Coming Soon.
URL:https://cocoabeachfootball.com/event/spring-tackle-football-practice-starts/
ATTACH;FMTTYPE=image/jpeg:https://cocoabeachfootball.com/wp-content/uploads/2017/04/CBHS-Football-Logo.jpg
END:VEVENT
BEGIN:VEVENT
DTSTART;VALUE=DATE:20230429
DTEND;VALUE=DATE:20230430
DTSTAMP:20260422T064658
CREATED:20230213T184612Z
LAST-MODIFIED:20230213T184612Z
UID:2443-1682726400-1682812799@cocoabeachfootball.com
SUMMARY:MS 7v7 Tourney (Cocoa Beach)
DESCRIPTION:More Information Coming Soon.
URL:https://cocoabeachfootball.com/event/ms-7v7-tourney-cocoa-beach-2/
CATEGORIES:7v7 Tourney
ATTACH;FMTTYPE=image/jpeg:https://cocoabeachfootball.com/wp-content/uploads/2017/04/CBHS-Football-Logo.jpg
END:VEVENT
BEGIN:VEVENT
DTSTART;TZID=America/New_York:20230427T180000
DTEND;TZID=America/New_York:20230427T200000
DTSTAMP:20260422T064658
CREATED:20230301T183532Z
LAST-MODIFIED:20230301T183811Z
UID:2538-1682618400-1682625600@cocoabeachfootball.com
SUMMARY:Lift-A-Thon 2023
DESCRIPTION:Lift-A-Thon 2023\nApril 27th\, 2023 \n6:00 PM \nPer Pound and /or Flat Donations \nCome Support our Atheletes! \n118 N Brevard Ave\, Cocoa Beach
URL:https://cocoabeachfootball.com/event/lift-a-thon-2023/
LOCATION:Crossfit Cocoa Beach\, 118 N Brevard Ave\, Cocoa Beach\, FL\, 32931\, United States
CATEGORIES:Fundraisers
ATTACH;FMTTYPE=image/jpeg:https://cocoabeachfootball.com/wp-content/uploads/2023/03/liftathon2023.jpg
END:VEVENT
BEGIN:VEVENT
DTSTART;VALUE=DATE:20230422
DTEND;VALUE=DATE:20230423
DTSTAMP:20260422T064658
CREATED:20230213T183401Z
LAST-MODIFIED:20230213T183401Z
UID:2439-1682121600-1682207999@cocoabeachfootball.com
SUMMARY:HS 7v7 Tourney (Orlando)
DESCRIPTION:More Information Coming Soon.
URL:https://cocoabeachfootball.com/event/hs-7v7-tourney-orlando/
CATEGORIES:7v7 Tourney
ATTACH;FMTTYPE=image/jpeg:https://cocoabeachfootball.com/wp-content/uploads/2017/04/CBHS-Football-Logo.jpg
END:VEVENT
END:VCALENDAR