BEGIN:VCALENDAR
VERSION:2.0
PRODID:-//cocoabeachfootball.com - ECPv6.15.20//NONSGML v1.0//EN
CALSCALE:GREGORIAN
METHOD:PUBLISH
X-ORIGINAL-URL:https://cocoabeachfootball.com
X-WR-CALDESC:Events for cocoabeachfootball.com
REFRESH-INTERVAL;VALUE=DURATION:PT1H
X-Robots-Tag:noindex
X-PUBLISHED-TTL:PT1H
BEGIN:VTIMEZONE
TZID:America/New_York
BEGIN:DAYLIGHT
TZOFFSETFROM:-0500
TZOFFSETTO:-0400
TZNAME:EDT
DTSTART:20220313T070000
END:DAYLIGHT
BEGIN:STANDARD
TZOFFSETFROM:-0400
TZOFFSETTO:-0500
TZNAME:EST
DTSTART:20221106T060000
END:STANDARD
BEGIN:DAYLIGHT
TZOFFSETFROM:-0500
TZOFFSETTO:-0400
TZNAME:EDT
DTSTART:20230312T070000
END:DAYLIGHT
BEGIN:STANDARD
TZOFFSETFROM:-0400
TZOFFSETTO:-0500
TZNAME:EST
DTSTART:20231105T060000
END:STANDARD
BEGIN:DAYLIGHT
TZOFFSETFROM:-0500
TZOFFSETTO:-0400
TZNAME:EDT
DTSTART:20240310T070000
END:DAYLIGHT
BEGIN:STANDARD
TZOFFSETFROM:-0400
TZOFFSETTO:-0500
TZNAME:EST
DTSTART:20241103T060000
END:STANDARD
BEGIN:DAYLIGHT
TZOFFSETFROM:-0500
TZOFFSETTO:-0400
TZNAME:EDT
DTSTART:20250309T070000
END:DAYLIGHT
BEGIN:STANDARD
TZOFFSETFROM:-0400
TZOFFSETTO:-0500
TZNAME:EST
DTSTART:20251102T060000
END:STANDARD
BEGIN:DAYLIGHT
TZOFFSETFROM:-0500
TZOFFSETTO:-0400
TZNAME:EDT
DTSTART:20260308T070000
END:DAYLIGHT
BEGIN:STANDARD
TZOFFSETFROM:-0400
TZOFFSETTO:-0500
TZNAME:EST
DTSTART:20261101T060000
END:STANDARD
END:VTIMEZONE
BEGIN:VEVENT
DTSTART;TZID=America/New_York:20250510T120000
DTEND;TZID=America/New_York:20250510T170000
DTSTAMP:20260420T030226
CREATED:20250425T181839Z
LAST-MODIFIED:20250425T181839Z
UID:3479-1746878400-1746896400@cocoabeachfootball.com
SUMMARY:Cocoa Beach Football Golf Tournament (CB Country Club)
DESCRIPTION:Cocoa Beach Football Golf Tournament (CB Country Club)\nThe 2025 Cocoa Beach Football Golf Scramble\nSaturday\, May 10th\, 2025\n12:00 Shotgun Start\nREAD MORE!
URL:https://cocoabeachfootball.com/event/cocoa-beach-football-golf-tournament-cb-country-club-2025/
LOCATION:Cocoa Beach Country Club\, 5000 Tom Warriner Blvd\, Cocoa Beach\, FL\, 32931\, United States
CATEGORIES:Fundraisers
ATTACH;FMTTYPE=image/jpeg:https://cocoabeachfootball.com/wp-content/uploads/2025/03/2025GolfPoster.jpg
END:VEVENT
BEGIN:VEVENT
DTSTART;TZID=America/New_York:20250430T180000
DTEND;TZID=America/New_York:20250430T190000
DTSTAMP:20260420T030226
CREATED:20250425T180437Z
LAST-MODIFIED:20250425T180437Z
UID:3475-1746036000-1746039600@cocoabeachfootball.com
SUMMARY:Golf Booster Meeting
DESCRIPTION:4/30/25\nGolf Booster Meeting\nThe Elks Lodge Cocoa Beach\n175 N Brevard Ave\, Cocoa Beach\, FL 32931
URL:https://cocoabeachfootball.com/event/golf-booster-meeting/
LOCATION:The Elks Lodge\, 175 N Brevard Ave\, Cocoa Beach\, FL\, 32931\, United States
CATEGORIES:Booster Association Meeting
ATTACH;FMTTYPE=image/png:https://cocoabeachfootball.com/wp-content/uploads/2024/03/CB-Logo_trans.png
END:VEVENT
BEGIN:VEVENT
DTSTART;VALUE=DATE:20240603
DTEND;VALUE=DATE:20240604
DTSTAMP:20260420T030226
CREATED:20240321T164141Z
LAST-MODIFIED:20240321T173410Z
UID:3165-1717372800-1717459199@cocoabeachfootball.com
SUMMARY:Summer Workouts Begin
DESCRIPTION:Summer Workouts Begin
URL:https://cocoabeachfootball.com/event/summer-workouts-begin/
LOCATION:Cocoa Beach High School\, 1500 Minutemen Causeway\, Cocoa Beach\, FL\, 32931\, United States
CATEGORIES:Team Meetings
ATTACH;FMTTYPE=image/png:https://cocoabeachfootball.com/wp-content/uploads/2024/03/CB-Logo_trans.png
ORGANIZER;CN="Ted Kimmey":MAILTO:Kimmey.Ted@Brevardschools.org
END:VEVENT
BEGIN:VEVENT
DTSTART;VALUE=DATE:20240517
DTEND;VALUE=DATE:20240518
DTSTAMP:20260420T030226
CREATED:20240321T163719Z
LAST-MODIFIED:20240321T163719Z
UID:3162-1715904000-1715990399@cocoabeachfootball.com
SUMMARY:Spring Jamboree at Colonial HS vs Colonial & Gateway HS
DESCRIPTION:Spring Jamboree at Colonial HS vs Colonial & Gateway HS
URL:https://cocoabeachfootball.com/event/spring-jamboree-at-colonial-hs-vs-colonial-gateway-hs/
LOCATION:Colonial High School\, 6100 Oleander Dr\, Orlando\, FL\, 32807\, United States
CATEGORIES:Varsity Football Game
ATTACH;FMTTYPE=image/png:https://cocoabeachfootball.com/wp-content/uploads/2024/03/CB-Logo_trans.png
ORGANIZER;CN="Ted Kimmey":MAILTO:Kimmey.Ted@Brevardschools.org
END:VEVENT
BEGIN:VEVENT
DTSTART;TZID=America/New_York:20240511T113000
DTEND;TZID=America/New_York:20240511T193000
DTSTAMP:20260420T030226
CREATED:20240321T162304Z
LAST-MODIFIED:20240321T162305Z
UID:3160-1715427000-1715455800@cocoabeachfootball.com
SUMMARY:Cocoa Beach Football Golf Tournament (CB Country Club)
DESCRIPTION:Cocoa Beach Football Golf Tournament (CB Country Club)\nThe Cocoa Beach Football Association Presents:\nThe 2024 Cocoa Beach Football Golf Scramble\nSaturday\, May 11th\, 2024\n12:30 Shotgun Start\n11:30 Registration & Light Lunch\, 12:30 Start Time\, 5:30 Dinner and Awards\nCost to play is $85 per player or $340 per team and covers greens fees\, a light lunch\, a goodie bag\, and prizes. \nIn addition\, there will be sponsorship opportunities starting at $100 and volunteer opportunities.  We are also actively seeking donations for prizes. \nThank you in advance for your support! \nREAD MORE!
URL:https://cocoabeachfootball.com/event/cocoa-beach-football-golf-tournament-cb-country-club/
LOCATION:Cocoa Beach Country Club\, 5000 Tom Warriner Blvd\, Cocoa Beach\, FL\, 32931\, United States
CATEGORIES:Fundraisers
ATTACH;FMTTYPE=image/jpeg:https://cocoabeachfootball.com/wp-content/uploads/2024/02/CB-2nd-Golf-Scramble-Final-Update.jpg
ORGANIZER;CN="Ted Kimmey":MAILTO:Kimmey.Ted@Brevardschools.org
END:VEVENT
BEGIN:VEVENT
DTSTART;VALUE=DATE:20240510
DTEND;VALUE=DATE:20240511
DTSTAMP:20260420T030226
CREATED:20240321T161235Z
LAST-MODIFIED:20240321T161603Z
UID:3157-1715299200-1715385599@cocoabeachfootball.com
SUMMARY:Intersquad Game & Community Tailgate
DESCRIPTION:Intersquad Game & Community Tailgate
URL:https://cocoabeachfootball.com/event/intersquad-game-community-tailgate/
LOCATION:Cocoa Beach High School\, 1500 Minutemen Causeway\, Cocoa Beach\, FL\, 32931\, United States
CATEGORIES:Varsity Football Game
ATTACH;FMTTYPE=image/png:https://cocoabeachfootball.com/wp-content/uploads/2024/03/CB-Logo_trans.png
ORGANIZER;CN="Ted Kimmey":MAILTO:Kimmey.Ted@Brevardschools.org
END:VEVENT
BEGIN:VEVENT
DTSTART;VALUE=DATE:20240507
DTEND;VALUE=DATE:20240508
DTSTAMP:20260420T030226
CREATED:20240321T160416Z
LAST-MODIFIED:20240321T160416Z
UID:3155-1715040000-1715126399@cocoabeachfootball.com
SUMMARY:Cocoa Beach Football Booster Meeting - Time & Location TBD
DESCRIPTION:Cocoa Beach Football Booster Meeting – Time & Location TBD
URL:https://cocoabeachfootball.com/event/cocoa-beach-football-booster-meeting-time-location-tbd/
LOCATION:Cocoa Beach High School\, 1500 Minutemen Causeway\, Cocoa Beach\, FL\, 32931\, United States
CATEGORIES:Booster Association Meeting
ORGANIZER;CN="Ted Kimmey":MAILTO:Kimmey.Ted@Brevardschools.org
END:VEVENT
BEGIN:VEVENT
DTSTART;VALUE=DATE:20240429
DTEND;VALUE=DATE:20240430
DTSTAMP:20260420T030226
CREATED:20240321T160040Z
LAST-MODIFIED:20240321T160040Z
UID:3153-1714348800-1714435199@cocoabeachfootball.com
SUMMARY:Spring Football Begins
DESCRIPTION:Spring Football Begins
URL:https://cocoabeachfootball.com/event/spring-football-begins/
LOCATION:Cocoa Beach High School\, 1500 Minutemen Causeway\, Cocoa Beach\, FL\, 32931\, United States
CATEGORIES:Team Meetings
ATTACH;FMTTYPE=image/png:https://cocoabeachfootball.com/wp-content/uploads/2024/03/CB-Logo_trans.png
ORGANIZER;CN="Ted Kimmey":MAILTO:Kimmey.Ted@Brevardschools.org
END:VEVENT
BEGIN:VEVENT
DTSTART;VALUE=DATE:20240425
DTEND;VALUE=DATE:20240426
DTSTAMP:20260420T030226
CREATED:20240321T155643Z
LAST-MODIFIED:20240321T155643Z
UID:3151-1714003200-1714089599@cocoabeachfootball.com
SUMMARY:Equipment Issue After School
DESCRIPTION:Equipment Issue After School
URL:https://cocoabeachfootball.com/event/equipment-issue-after-school-3/
LOCATION:Cocoa Beach High School\, 1500 Minutemen Causeway\, Cocoa Beach\, FL\, 32931\, United States
CATEGORIES:Team Meetings
ATTACH;FMTTYPE=image/png:https://cocoabeachfootball.com/wp-content/uploads/2024/03/CB-Logo_trans.png
ORGANIZER;CN="Ted Kimmey":MAILTO:Kimmey.Ted@Brevardschools.org
END:VEVENT
BEGIN:VEVENT
DTSTART;VALUE=DATE:20240424
DTEND;VALUE=DATE:20240425
DTSTAMP:20260420T030226
CREATED:20240321T155529Z
LAST-MODIFIED:20240321T155529Z
UID:3148-1713916800-1714003199@cocoabeachfootball.com
SUMMARY:Equipment Issue After School
DESCRIPTION:Equipment Issue After School
URL:https://cocoabeachfootball.com/event/equipment-issue-after-school-2/
LOCATION:Cocoa Beach High School\, 1500 Minutemen Causeway\, Cocoa Beach\, FL\, 32931\, United States
CATEGORIES:Team Meetings
ATTACH;FMTTYPE=image/png:https://cocoabeachfootball.com/wp-content/uploads/2024/03/CB-Logo_trans.png
ORGANIZER;CN="Ted Kimmey":MAILTO:Kimmey.Ted@Brevardschools.org
END:VEVENT
BEGIN:VEVENT
DTSTART;VALUE=DATE:20240423
DTEND;VALUE=DATE:20240424
DTSTAMP:20260420T030226
CREATED:20240321T154940Z
LAST-MODIFIED:20240321T155532Z
UID:3145-1713830400-1713916799@cocoabeachfootball.com
SUMMARY:Equipment Issue After School
DESCRIPTION:Equipment Issue After School
URL:https://cocoabeachfootball.com/event/equipment-issue-after-school/
LOCATION:Cocoa Beach High School\, 1500 Minutemen Causeway\, Cocoa Beach\, FL\, 32931\, United States
CATEGORIES:Team Meetings
ATTACH;FMTTYPE=image/png:https://cocoabeachfootball.com/wp-content/uploads/2024/03/CB-Logo_trans.png
ORGANIZER;CN="Ted Kimmey":MAILTO:Kimmey.Ted@Brevardschools.org
END:VEVENT
BEGIN:VEVENT
DTSTART;TZID=America/New_York:20240420T090000
DTEND;TZID=America/New_York:20240420T120000
DTSTAMP:20260420T030226
CREATED:20240320T195759Z
LAST-MODIFIED:20240321T154650Z
UID:3141-1713603600-1713614400@cocoabeachfootball.com
SUMMARY:Equipment Room Clean Out & Practice Field Set Up
DESCRIPTION:Equipment Room Clean Out & Practice Field Set Up \n 
URL:https://cocoabeachfootball.com/event/equipment-room-clean-out-practice-field-set-up/
LOCATION:Cocoa Beach High School\, 1500 Minutemen Causeway\, Cocoa Beach\, FL\, 32931\, United States
CATEGORIES:Team Meetings
ATTACH;FMTTYPE=image/png:https://cocoabeachfootball.com/wp-content/uploads/2024/03/CB-Logo_trans.png
ORGANIZER;CN="Ted Kimmey":MAILTO:Kimmey.Ted@Brevardschools.org
END:VEVENT
BEGIN:VEVENT
DTSTART;VALUE=DATE:20240402
DTEND;VALUE=DATE:20240403
DTSTAMP:20260420T030226
CREATED:20240320T195550Z
LAST-MODIFIED:20240321T153903Z
UID:3139-1712016000-1712102399@cocoabeachfootball.com
SUMMARY:Cocoa Beach Football Booster Meeting
DESCRIPTION:Cocoa Beach Football Booster Meeting \nTime & Location TBD
URL:https://cocoabeachfootball.com/event/cocoa-beach-football-booster-meeting/
LOCATION:Cocoa Beach High School\, 1500 Minutemen Causeway\, Cocoa Beach\, FL\, 32931\, United States
CATEGORIES:Booster Association Meeting
ATTACH;FMTTYPE=image/png:https://cocoabeachfootball.com/wp-content/uploads/2024/03/CB-Logo_trans.png
ORGANIZER;CN="Ted Kimmey":MAILTO:Kimmey.Ted@Brevardschools.org
END:VEVENT
BEGIN:VEVENT
DTSTART;TZID=America/New_York:20240401T183000
DTEND;TZID=America/New_York:20240401T203000
DTSTAMP:20260420T030226
CREATED:20240320T195351Z
LAST-MODIFIED:20240321T153404Z
UID:3137-1711996200-1712003400@cocoabeachfootball.com
SUMMARY:Mandatory Spring Football Parent-Player Meeting
DESCRIPTION:Mandatory Spring Football Parent-Player Meeting \nCB Theater
URL:https://cocoabeachfootball.com/event/mandatory-spring-football-parent-player-meeting/
LOCATION:Cocoa Beach High School\, 1500 Minutemen Causeway\, Cocoa Beach\, FL\, 32931\, United States
CATEGORIES:Team Meetings
ATTACH;FMTTYPE=image/png:https://cocoabeachfootball.com/wp-content/uploads/2024/03/CB-Logo_trans.png
ORGANIZER;CN="Ted Kimmey":MAILTO:Kimmey.Ted@Brevardschools.org
END:VEVENT
BEGIN:VEVENT
DTSTART;TZID=America/New_York:20231027T183000
DTEND;TZID=America/New_York:20231027T213000
DTSTAMP:20260420T030226
CREATED:20231024T152942Z
LAST-MODIFIED:20231024T152942Z
UID:2972-1698431400-1698442200@cocoabeachfootball.com
SUMMARY:SSAC Playoffs vs. Stanton College Preparatory School
DESCRIPTION:Come support your Minutemen in the 1st game of the SSAA Atlantic 2A playoffs!!\nThis is a rematch of the final 2022 consolation playoff game where your Minutemen had an exciting and dramatic come from behind victory to end the season in front of the home crowd!\nWe could use all the support we can get  Get those car pools going.\n 
URL:https://cocoabeachfootball.com/event/ssac-playoffs-vs-stanton-college-preparatory-school/
LOCATION:1149 W 13th St\, Jacksonville\, FL 32209\, 1149 W 13th St\,\, Jacksonville\, FL\, 32209\, United States
CATEGORIES:Varsity Football Game
ATTACH;FMTTYPE=image/jpeg:https://cocoabeachfootball.com/wp-content/uploads/2023/08/Varsity.jpg
END:VEVENT
BEGIN:VEVENT
DTSTART;TZID=America/New_York:20231013T190000
DTEND;TZID=America/New_York:20231013T210000
DTSTAMP:20260420T030226
CREATED:20231011T192712Z
LAST-MODIFIED:20231011T192712Z
UID:2970-1697223600-1697230800@cocoabeachfootball.com
SUMMARY:SENIOR NIGHT! Vs Out-of-Door Academy
DESCRIPTION:Varsity\nCocoa Beach Minutemen vs Out-of-Door Academy\n10/13 CB Stadium 7:00PM
URL:https://cocoabeachfootball.com/event/senior-night-vs-out-of-door-academy/
LOCATION:Cocoa Beach High School\, 1500 Minutemen Causeway\, Cocoa Beach\, FL\, 32931\, United States
CATEGORIES:Varsity Football Game
ATTACH;FMTTYPE=image/jpeg:https://cocoabeachfootball.com/wp-content/uploads/2023/08/Varsity.jpg
END:VEVENT
BEGIN:VEVENT
DTSTART;TZID=America/New_York:20230901T190000
DTEND;TZID=America/New_York:20230901T220000
DTSTAMP:20260420T030226
CREATED:20230830T182144Z
LAST-MODIFIED:20230830T182436Z
UID:2899-1693594800-1693605600@cocoabeachfootball.com
SUMMARY:Varsity vs Foundation Academy
DESCRIPTION:Varsity \nCocoa Beach Minutemen vs Foundation Academy \n9/1 CB Stadium 7:00PM
URL:https://cocoabeachfootball.com/event/varsity-vs-foundation-academy/
LOCATION:Cocoa Beach High School\, 1500 Minutemen Causeway\, Cocoa Beach\, FL\, 32931\, United States
CATEGORIES:Varsity Football Game
ATTACH;FMTTYPE=image/jpeg:https://cocoabeachfootball.com/wp-content/uploads/2023/03/varsity.jpg
END:VEVENT
BEGIN:VEVENT
DTSTART;TZID=America/New_York:20230831T180000
DTEND;TZID=America/New_York:20230831T210000
DTSTAMP:20260420T030226
CREATED:20230830T182518Z
LAST-MODIFIED:20230830T182552Z
UID:2901-1693504800-1693515600@cocoabeachfootball.com
SUMMARY:MS vs Foundation Academy
DESCRIPTION:8/31\, CB Stadium 6:00 PM \nCB Minutemen vs Foundation Academy
URL:https://cocoabeachfootball.com/event/ms-vs-foundation-academy/
LOCATION:FL
CATEGORIES:Middle School Game
ATTACH;FMTTYPE=image/jpeg:https://cocoabeachfootball.com/wp-content/uploads/2023/03/jv.jpg
END:VEVENT
BEGIN:VEVENT
DTSTART;VALUE=DATE:20230717
DTEND;VALUE=DATE:20230720
DTSTAMP:20260420T030226
CREATED:20230623T200316Z
LAST-MODIFIED:20230623T200316Z
UID:2826-1689552000-1689811199@cocoabeachfootball.com
SUMMARY:Youth Football Camp
DESCRIPTION:Cocoa Beach Football Youth Camp\nThe Cocoa Beach Jr/Sr High Football program will be hosting our 3rd annual youth football camp for 1st-6th graders! This is an evening camp\, lasting for 3 consecutive days\, July 17-19.\nThis will be fun and beneficial for all young athletes\, experienced or inexperienced.\nREAD MORE AND REGISTER
URL:https://cocoabeachfootball.com/event/youth-football-camp/
LOCATION:Cocoa Beach High School\, 1500 Minutemen Causeway\, Cocoa Beach\, FL\, 32931\, United States
CATEGORIES:Camp
ATTACH;FMTTYPE=image/jpeg:https://cocoabeachfootball.com/wp-content/uploads/2023/06/1.jpg
END:VEVENT
BEGIN:VEVENT
DTSTART;VALUE=DATE:20230523
DTEND;VALUE=DATE:20230524
DTSTAMP:20260420T030226
CREATED:20230213T185616Z
LAST-MODIFIED:20230213T185617Z
UID:2454-1684800000-1684886399@cocoabeachfootball.com
SUMMARY:Spring Intrasquad MS game
DESCRIPTION:More Information Coming Soon.
URL:https://cocoabeachfootball.com/event/spring-intrasquad-ms-game/
LOCATION:FL
END:VEVENT
BEGIN:VEVENT
DTSTART;VALUE=DATE:20230518
DTEND;VALUE=DATE:20230519
DTSTAMP:20260420T030226
CREATED:20230213T185217Z
LAST-MODIFIED:20230213T185218Z
UID:2452-1684368000-1684454399@cocoabeachfootball.com
SUMMARY:Spring HS Game vs Father Lopez
DESCRIPTION:More Information Coming Soon.
URL:https://cocoabeachfootball.com/event/spring-hs-game-vs-father-lopez/
LOCATION:FL
CATEGORIES:Varsity Football Game
ATTACH;FMTTYPE=image/jpeg:https://cocoabeachfootball.com/wp-content/uploads/2017/04/CBHS-Football-Logo.jpg
END:VEVENT
BEGIN:VEVENT
DTSTART;VALUE=DATE:20230513
DTEND;VALUE=DATE:20230514
DTSTAMP:20260420T030226
CREATED:20230213T184940Z
LAST-MODIFIED:20230213T184940Z
UID:2449-1683936000-1684022399@cocoabeachfootball.com
SUMMARY:2023 Golf Tournament
DESCRIPTION:More Information Coming Soon.
URL:https://cocoabeachfootball.com/event/2023-golf-tournament/
LOCATION:FL
CATEGORIES:Fundraisers
ATTACH;FMTTYPE=image/jpeg:https://cocoabeachfootball.com/wp-content/uploads/2017/04/CBHS-Football-Logo.jpg
END:VEVENT
BEGIN:VEVENT
DTSTART;VALUE=DATE:20230506
DTEND;VALUE=DATE:20230507
DTSTAMP:20260420T030226
CREATED:20230213T184826Z
LAST-MODIFIED:20230213T184826Z
UID:2447-1683331200-1683417599@cocoabeachfootball.com
SUMMARY:Car Wash
DESCRIPTION:More Information Coming Soon.
URL:https://cocoabeachfootball.com/event/car-wash/
LOCATION:FL
CATEGORIES:Fundraisers
ATTACH;FMTTYPE=image/jpeg:https://cocoabeachfootball.com/wp-content/uploads/2017/04/CBHS-Football-Logo.jpg
END:VEVENT
BEGIN:VEVENT
DTSTART;VALUE=DATE:20230501
DTEND;VALUE=DATE:20230502
DTSTAMP:20260420T030226
CREATED:20230213T184729Z
LAST-MODIFIED:20230213T184729Z
UID:2445-1682899200-1682985599@cocoabeachfootball.com
SUMMARY:Spring Tackle Football Practice starts
DESCRIPTION:More Information Coming Soon.
URL:https://cocoabeachfootball.com/event/spring-tackle-football-practice-starts/
LOCATION:FL
ATTACH;FMTTYPE=image/jpeg:https://cocoabeachfootball.com/wp-content/uploads/2017/04/CBHS-Football-Logo.jpg
END:VEVENT
BEGIN:VEVENT
DTSTART;VALUE=DATE:20230429
DTEND;VALUE=DATE:20230430
DTSTAMP:20260420T030226
CREATED:20230213T184612Z
LAST-MODIFIED:20230213T184612Z
UID:2443-1682726400-1682812799@cocoabeachfootball.com
SUMMARY:MS 7v7 Tourney (Cocoa Beach)
DESCRIPTION:More Information Coming Soon.
URL:https://cocoabeachfootball.com/event/ms-7v7-tourney-cocoa-beach-2/
LOCATION:FL
CATEGORIES:7v7 Tourney
ATTACH;FMTTYPE=image/jpeg:https://cocoabeachfootball.com/wp-content/uploads/2017/04/CBHS-Football-Logo.jpg
END:VEVENT
BEGIN:VEVENT
DTSTART;TZID=America/New_York:20230427T180000
DTEND;TZID=America/New_York:20230427T200000
DTSTAMP:20260420T030226
CREATED:20230301T183532Z
LAST-MODIFIED:20230301T183811Z
UID:2538-1682618400-1682625600@cocoabeachfootball.com
SUMMARY:Lift-A-Thon 2023
DESCRIPTION:Lift-A-Thon 2023\nApril 27th\, 2023 \n6:00 PM \nPer Pound and /or Flat Donations \nCome Support our Atheletes! \n118 N Brevard Ave\, Cocoa Beach
URL:https://cocoabeachfootball.com/event/lift-a-thon-2023/
LOCATION:Crossfit Cocoa Beach\, 118 N Brevard Ave\, Cocoa Beach\, FL\, 32931\, United States
CATEGORIES:Fundraisers
ATTACH;FMTTYPE=image/jpeg:https://cocoabeachfootball.com/wp-content/uploads/2023/03/liftathon2023.jpg
END:VEVENT
BEGIN:VEVENT
DTSTART;VALUE=DATE:20230422
DTEND;VALUE=DATE:20230423
DTSTAMP:20260420T030226
CREATED:20230213T183401Z
LAST-MODIFIED:20230213T183401Z
UID:2439-1682121600-1682207999@cocoabeachfootball.com
SUMMARY:HS 7v7 Tourney (Orlando)
DESCRIPTION:More Information Coming Soon.
URL:https://cocoabeachfootball.com/event/hs-7v7-tourney-orlando/
LOCATION:FL
CATEGORIES:7v7 Tourney
ATTACH;FMTTYPE=image/jpeg:https://cocoabeachfootball.com/wp-content/uploads/2017/04/CBHS-Football-Logo.jpg
END:VEVENT
END:VCALENDAR